BEGIN:VCALENDAR
VERSION:2.0
PRODID:-//Focales
CALSCALE:GREGORIAN
METHOD:PUBLISH
X-WR-CALNAME:Focales
X-ORIGINAL-URL:https://focales.org/kung-fu-panda-1-de-mark-osborne-et-john-stevenson/
X-WR-CALDESC:KUNG FU PANDA 1 DE MARK OSBORNE ET JOHN STEVENSON
BEGIN:VEVENT
DTSTART:20240726T220000
DTEND:20240726T233000
SUMMARY:KUNG FU PANDA 1 DE MARK OSBORNE ET JOHN STEVENSON
DESCRIPTION:
LOCATION:Parc des Vergnes, Clermont-Ferrand
END:VEVENT
END:VCALENDAR
