BEGIN:VCALENDAR
VERSION:2.0
PRODID:-//Focales
CALSCALE:GREGORIAN
METHOD:PUBLISH
X-WR-CALNAME:Focales
X-ORIGINAL-URL:https://focales.org/le-grand-bain-de-gilles-lelouche/
X-WR-CALDESC:LE GRAND BAIN DE GILLES LELOUCHE
BEGIN:VEVENT
DTSTART:20240709T220000
DTEND:20240709T000000
SUMMARY:LE GRAND BAIN DE GILLES LELOUCHE
DESCRIPTION:
LOCATION:Parc de la piscine de Coubertin, Clermont-Ferrand
END:VEVENT
END:VCALENDAR
