BEGIN:VCALENDAR
VERSION:2.0
PRODID:-//Focales
CALSCALE:GREGORIAN
METHOD:PUBLISH
X-WR-CALNAME:Focales
X-ORIGINAL-URL:https://focales.org/coco-de-lee-unkrich-adrian-molina/
X-WR-CALDESC:COCO DE LEE UNKRICH &#038; ADRIAN MOLINA
BEGIN:VEVENT
DTSTART:20240716T220000
DTEND:20240716T234500
SUMMARY:COCO DE LEE UNKRICH &#038; ADRIAN MOLINA
DESCRIPTION:
LOCATION:Square Amadéo, Clermont-Ferrand
END:VEVENT
END:VCALENDAR
