BEGIN:VCALENDAR
VERSION:2.0
PRODID:-//Focales
CALSCALE:GREGORIAN
METHOD:PUBLISH
X-WR-CALNAME:Focales
X-ORIGINAL-URL:https://focales.org/gagarine-de-fanny-liatard-et-jeremy-trouilh-2/
X-WR-CALDESC:GAGARINE DE FANNY LIATARD ET JEREMY TROUILH
BEGIN:VEVENT
DTSTART:20240719T220000
DTEND:20240719T233000
SUMMARY:GAGARINE DE FANNY LIATARD ET JEREMY TROUILH
DESCRIPTION:
LOCATION:Maison de quartier de Champratel, Clermont-Ferrand
END:VEVENT
END:VCALENDAR
