BEGIN:VCALENDAR
VERSION:2.0
PRODID:-//Focales
CALSCALE:GREGORIAN
METHOD:PUBLISH
X-WR-CALNAME:Focales
X-ORIGINAL-URL:https://focales.org/asterix-et-obelix-lempire-du-milieu-de-guillaume-canet-2/
X-WR-CALDESC:ASTÉRIX ET OBÉLIX L&rsquo;EMPIRE DU MILIEU DE GUILLAUME CANET
BEGIN:VEVENT
DTSTART:20240802T220000
DTEND:20240802T234500
SUMMARY:ASTÉRIX ET OBÉLIX L&rsquo;EMPIRE DU MILIEU DE GUILLAUME CANET
DESCRIPTION:
LOCATION:Parc Pierre Montgroux, 2 Rue du Grillon, 63118 Cébazat
END:VEVENT
END:VCALENDAR
