BEGIN:VCALENDAR
VERSION:2.0
PRODID:-//Focales
CALSCALE:GREGORIAN
METHOD:PUBLISH
X-WR-CALNAME:Focales
X-ORIGINAL-URL:https://focales.org/indiana-jones-et-le-cadran-de-la-destinee-de-james-mangold/
X-WR-CALDESC:INDIANA JONES ET LE CADRAN DE LA DESTINEE DE JAMES MANGOLD
BEGIN:VEVENT
DTSTART:20240809T213000
DTEND:20240809T234500
SUMMARY:INDIANA JONES ET LE CADRAN DE LA DESTINEE DE JAMES MANGOLD
DESCRIPTION:
LOCATION:Chartreux, Moulins
END:VEVENT
END:VCALENDAR
