BEGIN:VCALENDAR
VERSION:2.0
PRODID:-//Focales
CALSCALE:GREGORIAN
METHOD:PUBLISH
X-WR-CALNAME:Focales
X-ORIGINAL-URL:https://focales.org/le-ballon-dor-cheik-doukoure-2/
X-WR-CALDESC:LE BALLON D&rsquo;OR DE CHEIK DOUKOURE
BEGIN:VEVENT
DTSTART:20240822T213000
DTEND:20240822T230000
SUMMARY:LE BALLON D&rsquo;OR DE CHEIK DOUKOURE
DESCRIPTION:
LOCATION:Square Lapadu-Hargues, Clermont-Ferrand
END:VEVENT
END:VCALENDAR
