BEGIN:VCALENDAR
VERSION:2.0
PRODID:-//Focales
CALSCALE:GREGORIAN
METHOD:PUBLISH
X-WR-CALNAME:Focales
X-ORIGINAL-URL:https://focales.org/courts-metrages-du-festival-de-clermont/
X-WR-CALDESC:COURTS METRAGES DU FESTIVAL DE CLERMONT
BEGIN:VEVENT
DTSTART:20240806T220000
DTEND:20240806T000000
SUMMARY:COURTS METRAGES DU FESTIVAL DE CLERMONT
DESCRIPTION:
LOCATION:Jardin Lecoq, Clermont-Ferrand
END:VEVENT
END:VCALENDAR
