BEGIN:VCALENDAR
VERSION:2.0
PRODID:-//Focales
CALSCALE:GREGORIAN
METHOD:PUBLISH
X-WR-CALNAME:Focales
X-ORIGINAL-URL:https://focales.org/courts-metrages-en-plein-air/
X-WR-CALDESC:COURTS METRAGES EN PLEIN AIR
BEGIN:VEVENT
DTSTART:20240801T210000
DTEND:20240801T233000
SUMMARY:COURTS METRAGES EN PLEIN AIR
DESCRIPTION:
LOCATION:Dark Lab, Saint-Ours-les-roches
END:VEVENT
END:VCALENDAR
