BEGIN:VCALENDAR
VERSION:2.0
PRODID:-//Focales
CALSCALE:GREGORIAN
METHOD:PUBLISH
X-WR-CALNAME:Focales
X-ORIGINAL-URL:https://focales.org/histoire-dune-narse/
X-WR-CALDESC:HISTOIRE D&rsquo;UNE NARSE EN PRÉSENCE DU RÉALISATEUR ALEXIS JEANNOT
BEGIN:VEVENT
DTSTART:20240910T200000
DTEND:20240910T223000
SUMMARY:HISTOIRE D&rsquo;UNE NARSE EN PRÉSENCE DU RÉALISATEUR ALEXIS JEANNOT
DESCRIPTION:
LOCATION:Cinéma Le Rio, 178 Rue sous les Vignes, 63100 Clermont-Ferrand
END:VEVENT
END:VCALENDAR
