BEGIN:VCALENDAR
VERSION:2.0
PRODID:-//Focales
CALSCALE:GREGORIAN
METHOD:PUBLISH
X-WR-CALNAME:Focales
X-ORIGINAL-URL:https://focales.org/cest-le-monde-a-lenvers-nicolas-vanier/
X-WR-CALDESC:C&rsquo;EST LE MONDE À L&rsquo;ENVERS &#8211; EN PRÉSENCE DU RÉALISATEUR NICOLAS VANIER
BEGIN:VEVENT
DTSTART:20240922T140000
DTEND:20240922T170000
SUMMARY:C&rsquo;EST LE MONDE À L&rsquo;ENVERS &#8211; EN PRÉSENCE DU RÉALISATEUR NICOLAS VANIER
DESCRIPTION:
LOCATION:Le Palace, 30 bd de Courtais Montluçon, 03100
END:VEVENT
END:VCALENDAR
