BEGIN:VCALENDAR
VERSION:2.0
PRODID:-//Focales
CALSCALE:GREGORIAN
METHOD:PUBLISH
X-WR-CALNAME:Focales
X-ORIGINAL-URL:https://focales.org/projection-courts-metrages-laura-henno/
X-WR-CALDESC:PROJECTION DES COURTS MÉTRAGES DE LAURA HENNO
BEGIN:VEVENT
DTSTART:20240910T190000
DTEND:20240910T210000
SUMMARY:PROJECTION DES COURTS MÉTRAGES DE LAURA HENNO
DESCRIPTION:
LOCATION:Clermont-Ferrand, La Jetée
END:VEVENT
END:VCALENDAR
