BEGIN:VCALENDAR
VERSION:2.0
PRODID:-//Focales
CALSCALE:GREGORIAN
METHOD:PUBLISH
X-WR-CALNAME:Focales
X-ORIGINAL-URL:https://focales.org/court-particulier-pepe-le-morse/
X-WR-CALDESC:COURT PARTICULIER : ANALYSE DU COURT MÉTRAGE PÉPÉ LE MORSE
BEGIN:VEVENT
DTSTART:20241024T183000
DTEND:20241024T193000
SUMMARY:COURT PARTICULIER : ANALYSE DU COURT MÉTRAGE PÉPÉ LE MORSE
DESCRIPTION:
LOCATION:La Jetée, 6 Pl. Michel de l'Hospital, 63000 Clermont-Ferrand
END:VEVENT
END:VCALENDAR
