BEGIN:VCALENDAR
VERSION:2.0
PRODID:-//Focales
CALSCALE:GREGORIAN
METHOD:PUBLISH
X-WR-CALNAME:Focales
X-ORIGINAL-URL:https://focales.org/decouverte-de-la-realite-virtuelle-4/
X-WR-CALDESC:DÉCOUVERTE DE LA RÉALITÉ VIRTUELLE
BEGIN:VEVENT
DTSTART:20241030T140000
DTEND:20241031T180000
SUMMARY:DÉCOUVERTE DE LA RÉALITÉ VIRTUELLE
DESCRIPTION:
LOCATION:La Jetée, 6 Pl. Michel de l'Hospital, 63000 Clermont-Ferrand
END:VEVENT
END:VCALENDAR
