BEGIN:VCALENDAR
VERSION:2.0
PRODID:-//Focales
CALSCALE:GREGORIAN
METHOD:PUBLISH
X-WR-CALNAME:Focales
X-ORIGINAL-URL:https://focales.org/valse-avec-bachir-une-enquete-onirique-et-captivante/
X-WR-CALDESC:VALSE AVEC BACHIR, UNE ENQUÊTE ONIRIQUE ET CAPTIVANTE
BEGIN:VEVENT
DTSTART:20241107T200000
DTEND:20241107T220000
SUMMARY:VALSE AVEC BACHIR, UNE ENQUÊTE ONIRIQUE ET CAPTIVANTE
DESCRIPTION:
LOCATION:La Jetée, 6 Pl. Michel de l'Hospital, 63000 Clermont-Ferrand
END:VEVENT
END:VCALENDAR
