BEGIN:VCALENDAR
VERSION:2.0
PRODID:-//Focales
CALSCALE:GREGORIAN
METHOD:PUBLISH
X-WR-CALNAME:Focales
X-ORIGINAL-URL:https://focales.org/seance-plein-air-les-contes-de-la-nuit/
X-WR-CALDESC:SÉANCE PLEIN AIR LES CONTES DE LA NUIT
BEGIN:VEVENT
DTSTART:20240913T210000
DTEND:20240913T223000
SUMMARY:SÉANCE PLEIN AIR LES CONTES DE LA NUIT
DESCRIPTION:
LOCATION:Crous – site Dolet 25 rue Etienne-Dolet 63037 Clermont-Ferrand
END:VEVENT
END:VCALENDAR
