BEGIN:VCALENDAR
VERSION:2.0
PRODID:-//Focales
CALSCALE:GREGORIAN
METHOD:PUBLISH
X-WR-CALNAME:Focales
X-ORIGINAL-URL:https://focales.org/inscription-aux-formations-lyceens-et-apprentis-au-cinema-24-25/
X-WR-CALDESC:INSCRIPTION AU DISPOSITIF LYCÉENS ET APPRENTIS AU CINÉMA
BEGIN:VEVENT
DTSTART:20240902T000000
DTEND:20241018T234500
SUMMARY:INSCRIPTION AU DISPOSITIF LYCÉENS ET APPRENTIS AU CINÉMA
DESCRIPTION:
LOCATION:
END:VEVENT
END:VCALENDAR
