BEGIN:VCALENDAR
VERSION:2.0
PRODID:-//Focales
CALSCALE:GREGORIAN
METHOD:PUBLISH
X-WR-CALNAME:Focales
X-ORIGINAL-URL:https://focales.org/animation-pedagogique-maternelle-au-cinema/
X-WR-CALDESC:ANIMATION PÉDAGOGIQUE MATERNELLE AU CINÉMA
BEGIN:VEVENT
DTSTART:20241009T133000
DTEND:20241009T163000
SUMMARY:ANIMATION PÉDAGOGIQUE MATERNELLE AU CINÉMA
DESCRIPTION:
LOCATION:Cinéma Le Rio, 178 Rue sous les Vignes, 63100 Clermont-Ferrand
END:VEVENT
END:VCALENDAR
