BEGIN:VCALENDAR
VERSION:2.0
PRODID:-//Focales
CALSCALE:GREGORIAN
METHOD:PUBLISH
X-WR-CALNAME:Focales
X-ORIGINAL-URL:https://focales.org/cine-concert-avec-la-compagnie-satirix/
X-WR-CALDESC:CINÉ-CONCERT AVEC LA COMPAGNIE SATIRIX
BEGIN:VEVENT
DTSTART:20240928T130000
DTEND:20240929T153000
SUMMARY:CINÉ-CONCERT AVEC LA COMPAGNIE SATIRIX
DESCRIPTION:
LOCATION:Place du 8 mai, Sauxillanges - 63415
END:VEVENT
END:VCALENDAR
