BEGIN:VCALENDAR
VERSION:2.0
PRODID:-//Focales
CALSCALE:GREGORIAN
METHOD:PUBLISH
X-WR-CALNAME:Focales
X-ORIGINAL-URL:https://focales.org/presentations-des-seances-scolaires-du-festival-traces-de-vies/
X-WR-CALDESC:PRÉSENTATIONS DES SÉANCES SCOLAIRES DU FESTIVAL TRACES DE VIES
BEGIN:VEVENT
DTSTART:20241007T173000
DTEND:20241007T193000
SUMMARY:PRÉSENTATIONS DES SÉANCES SCOLAIRES DU FESTIVAL TRACES DE VIES
DESCRIPTION:
LOCATION:La Jetée, 6 Pl. Michel de l'Hospital, 63000 Clermont-Ferrand
END:VEVENT
END:VCALENDAR
