BEGIN:VCALENDAR
VERSION:2.0
PRODID:-//Focales
CALSCALE:GREGORIAN
METHOD:PUBLISH
X-WR-CALNAME:Focales
X-ORIGINAL-URL:https://focales.org/appel-jury-etudiants-tdv/
X-WR-CALDESC:APPEL À JURY ÉTUDIANT &#8211; FESTIVAL TRACES DE VIES 2024
BEGIN:VEVENT
DTSTART:20240917T000000
DTEND:20241011T233000
SUMMARY:APPEL À JURY ÉTUDIANT &#8211; FESTIVAL TRACES DE VIES 2024
DESCRIPTION:
LOCATION:Maison de la Culture • 3e étage Rue Abbé de l’Épée 63000 Clermont-Ferrand
END:VEVENT
END:VCALENDAR
