BEGIN:VCALENDAR
VERSION:2.0
PRODID:-//Focales
CALSCALE:GREGORIAN
METHOD:PUBLISH
X-WR-CALNAME:Focales
X-ORIGINAL-URL:https://focales.org/inscription-ateliers-cinema-du-suc/
X-WR-CALDESC:INSCRIPTION &#8211; ATELIERS CINÉMA DU SUC
BEGIN:VEVENT
DTSTART:20240919T000000
DTEND:20241002T234500
SUMMARY:INSCRIPTION &#8211; ATELIERS CINÉMA DU SUC
DESCRIPTION:
LOCATION: 29 Bd Gergovia, 63000 Clermont-Ferrand
END:VEVENT
END:VCALENDAR
