BEGIN:VCALENDAR
VERSION:2.0
PRODID:-//Focales
CALSCALE:GREGORIAN
METHOD:PUBLISH
X-WR-CALNAME:Focales
X-ORIGINAL-URL:https://focales.org/julie-se-tait-et-rencontre-avec-judith-godreche-et-leonardo-van-dijl/
X-WR-CALDESC:JULIE SE TAIT ET RENCONTRE AVEC JUDITH GODRÉCHE ET LEONARDO VAN DIJL
BEGIN:VEVENT
DTSTART:20240926T183000
DTEND:20240926T210000
SUMMARY:JULIE SE TAIT ET RENCONTRE AVEC JUDITH GODRÉCHE ET LEONARDO VAN DIJL
DESCRIPTION:
LOCATION:Cinéma le Rio, Clermont-Ferrand
END:VEVENT
END:VCALENDAR
