BEGIN:VCALENDAR
VERSION:2.0
PRODID:-//Focales
CALSCALE:GREGORIAN
METHOD:PUBLISH
X-WR-CALNAME:Focales
X-ORIGINAL-URL:https://focales.org/cine-rencontre-danser-sur-un-volcan-en-presence-realisateur/
X-WR-CALDESC:CINÉ RENCONTRE &#8211; DANSER SUR UN VOLCAN DE CYRIL HARRIS
BEGIN:VEVENT
DTSTART:20240922T200000
DTEND:20240922T223000
SUMMARY:CINÉ RENCONTRE &#8211; DANSER SUR UN VOLCAN DE CYRIL HARRIS
DESCRIPTION:
LOCATION:Cinéma le Rio, Clermont-Ferrand
END:VEVENT
END:VCALENDAR
