BEGIN:VCALENDAR
VERSION:2.0
PRODID:-//Focales
CALSCALE:GREGORIAN
METHOD:PUBLISH
X-WR-CALNAME:Focales
X-ORIGINAL-URL:https://focales.org/festival-cinebanlieue/
X-WR-CALDESC:APPEL À FILMS FESTIVAL CINÉBANLIEUE
BEGIN:VEVENT
DTSTART:20150820T000000
DTEND:20150920T000000
SUMMARY:APPEL À FILMS FESTIVAL CINÉBANLIEUE
DESCRIPTION:
LOCATION:122, avenue Victor Hugo   93300 Aubervilliers
END:VEVENT
END:VCALENDAR
