BEGIN:VCALENDAR
VERSION:2.0
PRODID:-//Focales
CALSCALE:GREGORIAN
METHOD:PUBLISH
X-WR-CALNAME:Focales
X-ORIGINAL-URL:https://focales.org/des-signes-qui-blesssent-en-presence-du-realisateur-enzo-serripierri/
X-WR-CALDESC:DES SIGNES QUI BLESSSENT EN PRÉSENCE DU RÉALISATEUR ENZO SERRIPIERRI
BEGIN:VEVENT
DTSTART:20241009T200000
DTEND:20241009T213000
SUMMARY:DES SIGNES QUI BLESSSENT EN PRÉSENCE DU RÉALISATEUR ENZO SERRIPIERRI
DESCRIPTION:
LOCATION:Cinéma le Rio, Clermont-Ferrand
END:VEVENT
END:VCALENDAR
