BEGIN:VCALENDAR
VERSION:2.0
PRODID:-//Focales
CALSCALE:GREGORIAN
METHOD:PUBLISH
X-WR-CALNAME:Focales
X-ORIGINAL-URL:https://focales.org/toubib-en-presence-du-realisateur-antoine-page/
X-WR-CALDESC:TOUBIB &#8211; EN PRÉSENCE DU RÉALISATEUR ANTOINE PAGE
BEGIN:VEVENT
DTSTART:20241005T170000
DTEND:20241010T230000
SUMMARY:TOUBIB &#8211; EN PRÉSENCE DU RÉALISATEUR ANTOINE PAGE
DESCRIPTION:
LOCATION:
END:VEVENT
END:VCALENDAR
