BEGIN:VCALENDAR
VERSION:2.0
PRODID:-//Focales
CALSCALE:GREGORIAN
METHOD:PUBLISH
X-WR-CALNAME:Focales
X-ORIGINAL-URL:https://focales.org/festival-connexions-cultivons-le-numerique/
X-WR-CALDESC:FESTIVAL CONNEXIONS &#8211; CULTIVONS LE NUMÉRIQUE
BEGIN:VEVENT
DTSTART:20241029T000000
DTEND:20241130T230000
SUMMARY:FESTIVAL CONNEXIONS &#8211; CULTIVONS LE NUMÉRIQUE
DESCRIPTION:
LOCATION:
END:VEVENT
END:VCALENDAR
