BEGIN:VCALENDAR
VERSION:2.0
PRODID:-//Focales
CALSCALE:GREGORIAN
METHOD:PUBLISH
X-WR-CALNAME:Focales
X-ORIGINAL-URL:https://focales.org/guerilla-des-farc-lavenir-a-une-histoire-en-presence-de-pierre-carles/
X-WR-CALDESC:GUERILLA DES FARC, L&rsquo;AVENIR A UNE HISTOIRE EN PRESENCE DE PIERRE CARLES
BEGIN:VEVENT
DTSTART:20241125T200000
DTEND:20241125T233000
SUMMARY:GUERILLA DES FARC, L&rsquo;AVENIR A UNE HISTOIRE EN PRESENCE DE PIERRE CARLES
DESCRIPTION:
LOCATION:Cinéma le Rio, Clermont-Ferrand
END:VEVENT
END:VCALENDAR
