BEGIN:VCALENDAR
VERSION:2.0
PRODID:-//Focales
CALSCALE:GREGORIAN
METHOD:PUBLISH
X-WR-CALNAME:Focales
X-ORIGINAL-URL:https://focales.org/louise-violet-rencontre-avec-marie-christine-duchalet/
X-WR-CALDESC:LOUISE VIOLET, RENCONTRE AVEC MARIE-CHRISTINE DUCHALET
BEGIN:VEVENT
DTSTART:20241106T200000
DTEND:20241107T233000
SUMMARY:LOUISE VIOLET, RENCONTRE AVEC MARIE-CHRISTINE DUCHALET
DESCRIPTION:
LOCATION:Cinéma La Capitelle, Monistrol sur Loire
END:VEVENT
END:VCALENDAR
