BEGIN:VCALENDAR
VERSION:2.0
PRODID:-//Focales
CALSCALE:GREGORIAN
METHOD:PUBLISH
X-WR-CALNAME:Focales
X-ORIGINAL-URL:https://focales.org/cinelab-22-developper-sa-communication-digitale-pour-les-publics-jeunes/
X-WR-CALDESC:CINÉLAB #22 DÉVELOPPER SA COMMUNICATION DIGITALE POUR LES PUBLICS JEUNES
BEGIN:VEVENT
DTSTART:20241112T090000
DTEND:20241112T170000
SUMMARY:CINÉLAB #22 DÉVELOPPER SA COMMUNICATION DIGITALE POUR LES PUBLICS JEUNES
DESCRIPTION:
LOCATION:12 bis rue Jean Puy, 423007 Roanne 
END:VEVENT
END:VCALENDAR
