BEGIN:VCALENDAR
VERSION:2.0
PRODID:-//Focales
CALSCALE:GREGORIAN
METHOD:PUBLISH
X-WR-CALNAME:Focales
X-ORIGINAL-URL:https://focales.org/les-representations-de-lautisme-au-cinema/
X-WR-CALDESC:LES REPRÉSENTATIONS DE L&rsquo;AUTISME AU CINÉMA
BEGIN:VEVENT
DTSTART:20241112T133000
DTEND:20241115T193000
SUMMARY:LES REPRÉSENTATIONS DE L&rsquo;AUTISME AU CINÉMA
DESCRIPTION:
LOCATION:Maison des Sciences de l'Homme, 4 rue Ledru, Clermont-Ferrand 63058
END:VEVENT
END:VCALENDAR
