BEGIN:VCALENDAR
VERSION:2.0
PRODID:-//Focales
CALSCALE:GREGORIAN
METHOD:PUBLISH
X-WR-CALNAME:Focales
X-ORIGINAL-URL:https://focales.org/projection-de-lanterne-magique/
X-WR-CALDESC:PROJECTION DE LANTERNE MAGIQUE
BEGIN:VEVENT
DTSTART:20241120T190000
DTEND:20241120T200000
SUMMARY:PROJECTION DE LANTERNE MAGIQUE
DESCRIPTION:
LOCATION:Le KAP, 5 Rue Kessler, 63000 Clermont-Ferrand
END:VEVENT
END:VCALENDAR
