BEGIN:VCALENDAR
VERSION:2.0
PRODID:-//Focales
CALSCALE:GREGORIAN
METHOD:PUBLISH
X-WR-CALNAME:Focales
X-ORIGINAL-URL:https://focales.org/festival-traces-de-vies-2/
X-WR-CALDESC:FESTIVAL TRACES DE VIES 2024
BEGIN:VEVENT
DTSTART:20241201T110000
DTEND:20241207T210000
SUMMARY:FESTIVAL TRACES DE VIES 2024
DESCRIPTION:
LOCATION:Maison de la Culture, 71 Bd François Mitterrand, 63000 Clermont-Ferrand
END:VEVENT
END:VCALENDAR
