BEGIN:VCALENDAR
VERSION:2.0
PRODID:-//Focales
CALSCALE:GREGORIAN
METHOD:PUBLISH
X-WR-CALNAME:Focales
X-ORIGINAL-URL:https://focales.org/les-heures-heureuses-avec-la-realisatrice-martine-deyres/
X-WR-CALDESC:LES HEURES HEUREUSES AVEC MARTINE DEYRES
BEGIN:VEVENT
DTSTART:20241205T200000
DTEND:20241205T221500
SUMMARY:LES HEURES HEUREUSES AVEC MARTINE DEYRES
DESCRIPTION:
LOCATION:Clermont-Ferrand, Cinéma le Rio
END:VEVENT
END:VCALENDAR
