BEGIN:VCALENDAR
VERSION:2.0
PRODID:-//Focales
CALSCALE:GREGORIAN
METHOD:PUBLISH
X-WR-CALNAME:Focales
X-ORIGINAL-URL:https://focales.org/utopias-un-film-colectivo-avec-pamela-varela/
X-WR-CALDESC:UTOPÍAS, UN FILM COLECTIVO AVEC PAMELA VARELA
BEGIN:VEVENT
DTSTART:20241207T200000
DTEND:20241207T221500
SUMMARY:UTOPÍAS, UN FILM COLECTIVO AVEC PAMELA VARELA
DESCRIPTION:
LOCATION:Cinéma le Rio, 178 Rue sous les Vignes, 63100 Clermont-Ferrand
END:VEVENT
END:VCALENDAR
