BEGIN:VCALENDAR
VERSION:2.0
PRODID:-//Focales
CALSCALE:GREGORIAN
METHOD:PUBLISH
X-WR-CALNAME:Focales
X-ORIGINAL-URL:https://focales.org/lettre-a-ma-soeur-avec-habiba-djahnine/
X-WR-CALDESC:LETTRE À MA SOEUR AVEC HABIBA DJAHNINE
BEGIN:VEVENT
DTSTART:20241210T200000
DTEND:20241210T221500
SUMMARY:LETTRE À MA SOEUR AVEC HABIBA DJAHNINE
DESCRIPTION:
LOCATION:Cinéma le Rio, 178 Rue sous les Vignes, 63100 Clermont-Ferrand
END:VEVENT
END:VCALENDAR
