BEGIN:VCALENDAR
VERSION:2.0
PRODID:-//Focales
CALSCALE:GREGORIAN
METHOD:PUBLISH
X-WR-CALNAME:Focales
X-ORIGINAL-URL:https://focales.org/les-croods-saint-pourcain/
X-WR-CALDESC:LES CROODS
BEGIN:VEVENT
DTSTART:20150819T213000
DTEND:20150819T230200
SUMMARY:LES CROODS
DESCRIPTION:
LOCATION:46.3078999,3.2447160
END:VEVENT
END:VCALENDAR
