BEGIN:VCALENDAR
VERSION:2.0
PRODID:-//Focales
CALSCALE:GREGORIAN
METHOD:PUBLISH
X-WR-CALNAME:Focales
X-ORIGINAL-URL:https://focales.org/le-panache-en-presence-demmanuel-thomas/
X-WR-CALDESC:LE PANACHE EN PRÉSENCE D&rsquo;EMMANUEL THOMAS
BEGIN:VEVENT
DTSTART:20241214T170000
DTEND:20241214T193000
SUMMARY:LE PANACHE EN PRÉSENCE D&rsquo;EMMANUEL THOMAS
DESCRIPTION:
LOCATION:Cinéma le Delta, 5 Place du Palais de Justice, 15100 Saint-Flour
END:VEVENT
END:VCALENDAR
