BEGIN:VCALENDAR
VERSION:2.0
PRODID:-//Focales
CALSCALE:GREGORIAN
METHOD:PUBLISH
X-WR-CALNAME:Focales
X-ORIGINAL-URL:https://focales.org/les-rendez-vous-du-fil-5/
X-WR-CALDESC:LES RENDEZ-VOUS DU FIL #5
BEGIN:VEVENT
DTSTART:20241107T170000
DTEND:20241107T190000
SUMMARY:LES RENDEZ-VOUS DU FIL #5
DESCRIPTION:
LOCATION:
END:VEVENT
END:VCALENDAR
