BEGIN:VCALENDAR
VERSION:2.0
PRODID:-//Focales
CALSCALE:GREGORIAN
METHOD:PUBLISH
X-WR-CALNAME:Focales
X-ORIGINAL-URL:https://focales.org/court-particulier-analyse-du-court-metrage-les-mysterieuses-aventures-de-claude-conseil/
X-WR-CALDESC:COURT PARTICULIER : LES MYSTÉRIEUSES AVENTURES DE CLAUDE CONSEIL
BEGIN:VEVENT
DTSTART:20250214T183000
DTEND:20250214T194500
SUMMARY:COURT PARTICULIER : LES MYSTÉRIEUSES AVENTURES DE CLAUDE CONSEIL
DESCRIPTION:
LOCATION:La Jetée, 6 Place Michel-de-l'Hospital, 63058 Clermont-Ferrand
END:VEVENT
END:VCALENDAR
