BEGIN:VCALENDAR
VERSION:2.0
PRODID:-//Focales
CALSCALE:GREGORIAN
METHOD:PUBLISH
X-WR-CALNAME:Focales
X-ORIGINAL-URL:https://focales.org/medias-derriere-les-images-du-reel/
X-WR-CALDESC:MÉDIAS &#8211; DERRIÈRE LES IMAGES DU RÉEL
BEGIN:VEVENT
DTSTART:20250115T140000
DTEND:20250115T160000
SUMMARY:MÉDIAS &#8211; DERRIÈRE LES IMAGES DU RÉEL
DESCRIPTION:
LOCATION:Médiathèque Amélie-Murat, Clermont Auvergne Métropole
END:VEVENT
END:VCALENDAR
