BEGIN:VCALENDAR
VERSION:2.0
PRODID:-//Focales
CALSCALE:GREGORIAN
METHOD:PUBLISH
X-WR-CALNAME:Focales
X-ORIGINAL-URL:https://focales.org/rencontre-tadashi-ono-et-benoit-bouscarel/
X-WR-CALDESC:RENCONTRE TADASHI ONO ET BENOÎT BOUSCAREL
BEGIN:VEVENT
DTSTART:20250118T160000
DTEND:20250118T173000
SUMMARY:RENCONTRE TADASHI ONO ET BENOÎT BOUSCAREL
DESCRIPTION:
LOCATION:6 Rue du Terrail, 63000 Clermont-Ferrand
END:VEVENT
END:VCALENDAR
