BEGIN:VCALENDAR
VERSION:2.0
PRODID:-//Focales
CALSCALE:GREGORIAN
METHOD:PUBLISH
X-WR-CALNAME:Focales
X-ORIGINAL-URL:https://focales.org/concours-du-film-court-du-crous-2025-2/
X-WR-CALDESC:CONCOURS DU FILM COURT DU CROUS 2025
BEGIN:VEVENT
DTSTART:20250113T001500
DTEND:20250515T234500
SUMMARY:CONCOURS DU FILM COURT DU CROUS 2025
DESCRIPTION:
LOCATION:
END:VEVENT
END:VCALENDAR
