BEGIN:VCALENDAR
VERSION:2.0
PRODID:-//Focales
CALSCALE:GREGORIAN
METHOD:PUBLISH
X-WR-CALNAME:Focales
X-ORIGINAL-URL:https://focales.org/cinelab-23-creer-des-partenariats-a-impact/
X-WR-CALDESC:CINÉLAB #23 CRÉER DES PARTENARIATS À IMPACT
BEGIN:VEVENT
DTSTART:20250211T093000
DTEND:20250211T173000
SUMMARY:CINÉLAB #23 CRÉER DES PARTENARIATS À IMPACT
DESCRIPTION:
LOCATION:45 Pl. de Montmain, 73400 Ugine
END:VEVENT
END:VCALENDAR
