BEGIN:VCALENDAR
VERSION:2.0
PRODID:-//Focales
CALSCALE:GREGORIAN
METHOD:PUBLISH
X-WR-CALNAME:Focales
X-ORIGINAL-URL:https://focales.org/rencontres-nationales-culture-et-sante-rendre-visible-linvisible/
X-WR-CALDESC:RENCONTRES NATIONALES CULTURE ET SANTÉ : RENDRE VISIBLE L&rsquo;INVISIBLE
BEGIN:VEVENT
DTSTART:20250331T090000
DTEND:20250401T170000
SUMMARY:RENCONTRES NATIONALES CULTURE ET SANTÉ : RENDRE VISIBLE L&rsquo;INVISIBLE
DESCRIPTION:
LOCATION:Centre hospitalier Saint-Jean de Dieu, 290 Rte de Vienne, 69008 Lyon
END:VEVENT
END:VCALENDAR
