BEGIN:VCALENDAR
VERSION:2.0
PRODID:-//Focales
CALSCALE:GREGORIAN
METHOD:PUBLISH
X-WR-CALNAME:Focales
X-ORIGINAL-URL:https://focales.org/court-particulier-entracte/
X-WR-CALDESC:COURT PARTICULIER : ENTR&rsquo;ACTE PRÉSENTÉ PAR CHRISTIAN GUINOT
BEGIN:VEVENT
DTSTART:20250319T183000
DTEND:20250319T194500
SUMMARY:COURT PARTICULIER : ENTR&rsquo;ACTE PRÉSENTÉ PAR CHRISTIAN GUINOT
DESCRIPTION:
LOCATION:La Jetée, 6 Place Michel-de-l'Hospital, 63058 Clermont-Ferrand
END:VEVENT
END:VCALENDAR
