BEGIN:VCALENDAR
VERSION:2.0
PRODID:-//Focales
CALSCALE:GREGORIAN
METHOD:PUBLISH
X-WR-CALNAME:Focales
X-ORIGINAL-URL:https://focales.org/court-particulier-themanwiththebeautifuleyes/
X-WR-CALDESC:COURT PARTICULIER : THE MAN WITH THE BEAUTIFUL EYES PRÉSENTÉ PAR ANTOINE LOPEZ
BEGIN:VEVENT
DTSTART:20250410T183000
DTEND:20250410T193000
SUMMARY:COURT PARTICULIER : THE MAN WITH THE BEAUTIFUL EYES PRÉSENTÉ PAR ANTOINE LOPEZ
DESCRIPTION:
LOCATION:La Jetée, 6 Place Michel-de-l'Hospital, 63058 Clermont-Ferrand
END:VEVENT
END:VCALENDAR
