BEGIN:VCALENDAR
VERSION:2.0
PRODID:-//Focales
CALSCALE:GREGORIAN
METHOD:PUBLISH
X-WR-CALNAME:Focales
X-ORIGINAL-URL:https://focales.org/puy-de-dome-sur-pellicule/
X-WR-CALDESC:PROJECTION ARGENTIQUE EN MUSIQUE À BILLOM
BEGIN:VEVENT
DTSTART:20250405T193000
DTEND:20250405T223000
SUMMARY:PROJECTION ARGENTIQUE EN MUSIQUE À BILLOM
DESCRIPTION:
LOCATION:La Perm, Rue du Collège, 63160 Billom
END:VEVENT
END:VCALENDAR
