BEGIN:VCALENDAR
VERSION:2.0
PRODID:-//Focales
CALSCALE:GREGORIAN
METHOD:PUBLISH
X-WR-CALNAME:Focales
X-ORIGINAL-URL:https://focales.org/puy-de-dome-sur-pellicule-2/
X-WR-CALDESC:PROJECTION ARGENTIQUE EN MUSIQUE À MENAT
BEGIN:VEVENT
DTSTART:20250426T170000
DTEND:20250426T183000
SUMMARY:PROJECTION ARGENTIQUE EN MUSIQUE À MENAT
DESCRIPTION:
LOCATION:La Passerelle, Pont de Menat, 63440 Pouzol
END:VEVENT
END:VCALENDAR
